BEGIN:VCALENDAR
VERSION:2.0
METHOD:PUBLISH
PRODID:-//Accessible Web Design//My Calendar//http://www.joedolson.com//v2.5.4//EN';
BEGIN:VEVENT
UID:930-207
LOCATION:     
SUMMARY:Lázně pro tělo i duši - Slaný Centrum Generace
DTSTAMP:20250606T193000
ORGANIZER;CN=Lucka Pospíšilová:MAILTO:lucka@spolunaceste.cz
DTSTART:20250606T193000
DTEND:20250606T213000
CATEGORIES:Různé
URL;VALUE=URI:
DESCRIPTION;ENCODING=QUOTED-PRINTABLE:Lázně pro duši i tělo Laskavě provází Lucie PospíšilováMísto: Centrum Generace Slaný&nbsp;14. únoratéma: „Mezigenerační traumata a jejich přenos vědomý i nevědomý„21. březnatéma: „Kdo opravdu jsem? (kdo nejsem).“4. dubnatéma: „Minulé životy – existují? Kde a jak se mohou projevovat?„&nbsp;6. červnatéma: „Rovnováha – jak ji žít každý den.“&nbsp;Žijme aktivní laskavost k sobě i k ostatním každým okamžikem a ráj na Zemi se stává realitou.&nbsp;Záměr: 	vytvořit bezpečný prostor plný klidu, respektu, potenciálu a lásky 	otevírat, předávat, objevovat cesty (možnosti) sebepoznání a osvobození 	poznání svých vědomých i nevědomých složek bytosti, svých možností a potenciálů 	ulevit mentálnímu tělu a nasytit duši (nejen na další měsíc) 	harmonizovat (prosvětlovat) aktuální osobní i společenská témataObsah: 	tanec, dech, relaxace a meditace 	sdílení v bezpečí 	práce s jemně-hmotným tělem (energií) individuálně, ve dvojicích, ve skupině 	tvoření a posilování záměrů, snů i tužeb 	propojení s aktuálním děním v přírodě (novoluní, rovnodennost, velikonoc)Časový program: 	pátek: 19:30 – 21:30 	cena: 400,- Kč
END:VEVENT
END:VCALENDAR