BEGIN:VCALENDAR
VERSION:2.0
METHOD:PUBLISH
PRODID:-//Accessible Web Design//My Calendar//http://www.joedolson.com//v2.5.4//EN';
BEGIN:VEVENT
UID:844-147
LOCATION:     
SUMMARY:Lázně pro tělo i duši
DTSTAMP:20220603T193000
ORGANIZER;CN=Lucka Pospíšilová:MAILTO:lucka@spolunaceste.cz
DTSTART:20220603T193000
DTEND:20220603T213000
CATEGORIES:Děti dětem
URL;VALUE=URI:
DESCRIPTION;ENCODING=QUOTED-PRINTABLE:
END:VEVENT
END:VCALENDAR