BEGIN:VCALENDAR
VERSION:2.0
METHOD:PUBLISH
PRODID:-//Accessible Web Design//My Calendar//http://www.joedolson.com//v2.5.4//EN';
BEGIN:VEVENT
UID:97-50
LOCATION:Dům rukou světla Liblická 5  Praha 9 Česká republika 19000
SUMMARY:Meditační setkání s Katkou
DTSTAMP:20170905T180000
ORGANIZER;CN=Katka Špačková:MAILTO:katka@spolunaceste.cz
DTSTART:20170905T180000
DTEND:20170905T193000
CATEGORIES:Setkání s Katkou
URL;VALUE=URI:
DESCRIPTION;ENCODING=QUOTED-PRINTABLE:Dům rukou světla, Liblická 5, Praha 9Úterý 5. 9. 2017 od 18hZvu vás všechny na meditační setkání s tématem:„Očistná lázeň - Svoboda – Vědomý Život “Přijďte se podílet na vytvoření společného prostoru, který nám v synergii umožní pracovat na individuální i kolektivní úrovni. Pojďme přijímat a tvořit světlo, lásku, pokoru a laskavost prostoru. Zván je každý, kdo má otevřené srdce a touhu se propojit.Celým programem budou prostupovat ladné meditační tóny umocňující vědomí světla a vibrací v harmonii s vesmírným řádem.Více informací k organizaci a myšlence této aktivity na:http://spolunaceste.cz/meditacni-setkani/Rezervace na katka@spolunaceste.cz , případně na tel: 776 006 412, účast Vám bude potvrzena.Pro vaše pohodlí si můžete přinést deku či polštářek.Cena: 150KčNa všechny se těším Katka
END:VEVENT
END:VCALENDAR